BEGIN:VCALENDAR
VERSION:2.0
PRODID:-//Spiritus Victoria - ECPv6.15.14//NONSGML v1.0//EN
CALSCALE:GREGORIAN
METHOD:PUBLISH
X-ORIGINAL-URL:https://www.spiritusvictoria.com
X-WR-CALDESC:Events for Spiritus Victoria
REFRESH-INTERVAL;VALUE=DURATION:PT1H
X-Robots-Tag:noindex
X-PUBLISHED-TTL:PT1H
BEGIN:VTIMEZONE
TZID:Europe/Helsinki
BEGIN:DAYLIGHT
TZOFFSETFROM:+0200
TZOFFSETTO:+0300
TZNAME:EEST
DTSTART:20240331T010000
END:DAYLIGHT
BEGIN:STANDARD
TZOFFSETFROM:+0300
TZOFFSETTO:+0200
TZNAME:EET
DTSTART:20241027T010000
END:STANDARD
BEGIN:DAYLIGHT
TZOFFSETFROM:+0200
TZOFFSETTO:+0300
TZNAME:EEST
DTSTART:20250330T010000
END:DAYLIGHT
BEGIN:STANDARD
TZOFFSETFROM:+0300
TZOFFSETTO:+0200
TZNAME:EET
DTSTART:20251026T010000
END:STANDARD
BEGIN:DAYLIGHT
TZOFFSETFROM:+0200
TZOFFSETTO:+0300
TZNAME:EEST
DTSTART:20260329T010000
END:DAYLIGHT
BEGIN:STANDARD
TZOFFSETFROM:+0300
TZOFFSETTO:+0200
TZNAME:EET
DTSTART:20261025T010000
END:STANDARD
END:VTIMEZONE
BEGIN:VEVENT
DTSTART;TZID=Europe/Helsinki:20251018T140000
DTEND;TZID=Europe/Helsinki:20251019T140000
DTSTAMP:20260423T222441
CREATED:20250916T081648Z
LAST-MODIFIED:20250916T081649Z
UID:10000062-1760796000-1760882400@www.spiritusvictoria.com
SUMMARY:Sweat lodge & Ceremony with Ayahuasca & Los Niños
DESCRIPTION:The ceremony will be in the shamanic style\, a ceremony during which teacher plants/ power plants are taken by the participants with a prayer for healing\, direction and spiritual growth.\n\nA shamanic journey is to invoke the four directions\, the heart of the sky\, the Great Spirit\, the Great Mystery\, the heart of Mother Earth and the Sacred Fire. The teachings and knowledge of the medicines open our hearts and our minds – not only to really know\, accept and love ourselves\, but also to accept and include others in our circle\, without any judgements. By doing the work with clarity\, integrity\, respect and consistency\, always remembering to be humble and sincere\, we honour those that came before us – their knowledge\, wisdom and instructions. Much healing is possible during a shamanic journey – with the guidance of sacred songs\, we are able to restore our connection Great Spirit and All That Is. In this way\, physical and emotional obstacles are shifted\, and limiting beliefs are removed. By healing this separation in each of us\, everything can be healed.
URL:https://www.spiritusvictoria.com/spiritus-event/sweat-lodge-ceremony-with-ayahuasca-los-ninos/
LOCATION:Spiritus Victoria\, Malmesbury\, South Africa
ATTACH;FMTTYPE=image/jpeg:https://www.spiritusvictoria.com/wp-content/uploads/2025/09/ayahuasca-jennifer-cambrook.jpg
END:VEVENT
END:VCALENDAR