BEGIN:VCALENDAR
VERSION:2.0
PRODID:-//Spiritus Victoria - ECPv6.15.14//NONSGML v1.0//EN
CALSCALE:GREGORIAN
METHOD:PUBLISH
X-WR-CALNAME:Spiritus Victoria
X-ORIGINAL-URL:https://www.spiritusvictoria.com
X-WR-CALDESC:Events for Spiritus Victoria
REFRESH-INTERVAL;VALUE=DURATION:PT1H
X-Robots-Tag:noindex
X-PUBLISHED-TTL:PT1H
BEGIN:VTIMEZONE
TZID:Europe/Helsinki
BEGIN:DAYLIGHT
TZOFFSETFROM:+0200
TZOFFSETTO:+0300
TZNAME:EEST
DTSTART:20200329T010000
END:DAYLIGHT
BEGIN:STANDARD
TZOFFSETFROM:+0300
TZOFFSETTO:+0200
TZNAME:EET
DTSTART:20201025T010000
END:STANDARD
BEGIN:DAYLIGHT
TZOFFSETFROM:+0200
TZOFFSETTO:+0300
TZNAME:EEST
DTSTART:20210328T010000
END:DAYLIGHT
BEGIN:STANDARD
TZOFFSETFROM:+0300
TZOFFSETTO:+0200
TZNAME:EET
DTSTART:20211031T010000
END:STANDARD
BEGIN:DAYLIGHT
TZOFFSETFROM:+0200
TZOFFSETTO:+0300
TZNAME:EEST
DTSTART:20220327T010000
END:DAYLIGHT
BEGIN:STANDARD
TZOFFSETFROM:+0300
TZOFFSETTO:+0200
TZNAME:EET
DTSTART:20221030T010000
END:STANDARD
BEGIN:DAYLIGHT
TZOFFSETFROM:+0200
TZOFFSETTO:+0300
TZNAME:EEST
DTSTART:20230326T010000
END:DAYLIGHT
BEGIN:STANDARD
TZOFFSETFROM:+0300
TZOFFSETTO:+0200
TZNAME:EET
DTSTART:20231029T010000
END:STANDARD
BEGIN:DAYLIGHT
TZOFFSETFROM:+0200
TZOFFSETTO:+0300
TZNAME:EEST
DTSTART:20240331T010000
END:DAYLIGHT
BEGIN:STANDARD
TZOFFSETFROM:+0300
TZOFFSETTO:+0200
TZNAME:EET
DTSTART:20241027T010000
END:STANDARD
END:VTIMEZONE
BEGIN:VEVENT
DTSTART;TZID=Europe/Helsinki:20230402T100000
DTEND;TZID=Europe/Helsinki:20230402T130000
DTSTAMP:20260423T081720
CREATED:20230321T093220Z
LAST-MODIFIED:20230321T094537Z
UID:10000015-1680429600-1680440400@www.spiritusvictoria.com
SUMMARY:Women's Circle
DESCRIPTION:Calling all sisters to join in celebration with a prayer of gratitude for the ability to heal together. Thanking the Creator of the Universe and Mother Earth who provides for and inspires us\, praying for our health\, always seeking daily to affirm the purpose of sustainable life in a way that is in harmony with the kingdoms of nature. Within these realms\, we are learning to recognise where the sources of healing reside. When we feel that we have achieved a cure\, we feel confident in ourselves to also start to learn the healing process. In this way\, we can heal our thoughts\, emotions\, body and soul. \nWhat to bring: \nAn open heart \nIncense\, flowers\, crystals\, candles\, personal power objects\, drums\, shakers\, \nFood to share in gratitude \n 
URL:https://www.spiritusvictoria.com/spiritus-event/womens-circle/
LOCATION:6 Nerina Avenue\, Kommetjie
ATTACH;FMTTYPE=image/jpeg:https://www.spiritusvictoria.com/wp-content/uploads/2023/03/WCInsta1.jpg
END:VEVENT
BEGIN:VEVENT
DTSTART;TZID=Europe/Helsinki:20230331T200000
DTEND;TZID=Europe/Helsinki:20230401T200000
DTSTAMP:20260423T081720
CREATED:20230315T154216Z
LAST-MODIFIED:20230326T150218Z
UID:10000014-1680292800-1680379200@www.spiritusvictoria.com
SUMMARY:Santo Daime & Sacred Fire Alliance Ceremonies
DESCRIPTION:SANTO DAIME CEREMONY\nWe aim to start the ceremony with Santo Daime at 19:00 on Friday\, 31 March 2023\,  please ensure that you arrive in time to get settled. \n \nVenue: 6 Nerina Avenue\, Kommetjie\nContribution: Members: R550; non-members R950\n\n\nSanto Daime was founded in the 1930s in the Brazilian Amazonian state of Acre by Raimundo Irineu Serra\, known as Mestre Irineu. Santo Daime incorporates elements of several religious or spiritual traditions including Folk Catholicism\, Kardecist Spiritism\, African animism and indigenous South American shamanism\, including vegetalismo. Ceremonies are typically several hours long and are undertaken sitting in silent “concentration”\, or sung collectively\, dancing according to simple steps in geometrical formation. Ayahuasca (Daime) is drunk as part of the ceremony. The drinking of Daime can induce a strong effect which is embraced as both emotional and physical healing. Important points: 1) Women to wear skirts 2) Everyone to wear white\, no red or black.\n \nSWEAT LODGE\nArrival from 09:00 Saturday\, sweat around 10:00\n \nVenue: Ishta\, Main Road\, Hout Bay\nContribution: R400\n \n\n 
URL:https://www.spiritusvictoria.com/spiritus-event/santo-daime-sacred-fire-alliance-ceremonies/
ATTACH;FMTTYPE=image/jpeg:https://www.spiritusvictoria.com/wp-content/uploads/2023/03/Santo-Daime-Temazcal-31-March-2023.jpg
END:VEVENT
BEGIN:VEVENT
DTSTART;TZID=Europe/Helsinki:20230317T200000
DTEND;TZID=Europe/Helsinki:20230318T200000
DTSTAMP:20260423T081720
CREATED:20230201T115646Z
LAST-MODIFIED:20230201T115648Z
UID:10000013-1679083200-1679169600@www.spiritusvictoria.com
SUMMARY:Shamanic Plant Medicine Retreat
DESCRIPTION:A weekend of deep transformation with the Plant Teachers.\nThe weekend will include a shamanic medicine ceremony\, Wachuma walk in nature\, chanupa prayer circle and a Temazcal (sweat lodge)\, nourishing food\, the opportunity to connect with like-hearted people and time alone to dive into the depths of your being. The ceremonies will take place at our ceremony space on our private farm near Malmesbury Cape Town.\n\nAll included: ceremonies\, meals and camping\n\nOptional extra:\n– Kambo
URL:https://www.spiritusvictoria.com/spiritus-event/shamanic-plant-medicine-retreat-3/
LOCATION:Spiritus Victoria\, Malmesbury\, South Africa
ATTACH;FMTTYPE=image/jpeg:https://www.spiritusvictoria.com/wp-content/uploads/2023/02/UNADJUSTEDNONRAW_thumb_5631.jpg
END:VEVENT
BEGIN:VEVENT
DTSTART;TZID=Europe/Helsinki:20230310T190000
DTEND;TZID=Europe/Helsinki:20230312T103000
DTSTAMP:20260423T081720
CREATED:20230118T141635Z
LAST-MODIFIED:20230118T142728Z
UID:10000016-1678474800-1678617000@www.spiritusvictoria.com
SUMMARY:Shamanic Plant Medicine Retreat - Johannesburg
DESCRIPTION:A weekend of deep transformation with the Plant Teachers.  \nThe weekend will include 2 medicine ceremonies\,  nourishing food\, the opportunity to connect with like-hearted people and time alone to dive into the depths of your being. The ceremonies will take place in Houghton in a lovely house fitted for this purpose.\n \nAll included: 2 plant medicine ceremonies\, group integration session and meals.\n \nOptional extras:\n-Private healing session with Liesl\n-Kambo
URL:https://www.spiritusvictoria.com/spiritus-event/shamanic-plant-medicine-retreat-johannesburg/
LOCATION:Fibonacci House\, Houghton\, Johannesburg\, South Africa
ATTACH;FMTTYPE=image/jpeg:https://www.spiritusvictoria.com/wp-content/uploads/2023/01/be510b8cd2c794797c761e2c8e83f0d5.jpg
END:VEVENT
BEGIN:VEVENT
DTSTART;TZID=Europe/Helsinki:20230127T200000
DTEND;TZID=Europe/Helsinki:20230128T083000
DTSTAMP:20260423T081720
CREATED:20221221T155633Z
LAST-MODIFIED:20230118T142943Z
UID:10000017-1674849600-1674894600@www.spiritusvictoria.com
SUMMARY:Shamanic journey with Ayahuasca
DESCRIPTION:The ceremony will be in the shamanic style\, a ceremony during which teacher plants/ power plants are taken by the participants with a prayer for healing\, direction and spiritual growth. \nA shamanic journey is to invoke the four directions\, the heart of the sky\, the Great Spirit\, the Great Mystery\, the heart of Mother Earth and the Sacred Fire. The teachings and knowledge of the medicines open our hearts and our minds – not only to really know\, accept and love ourselves\, but also to accept and include others in our circle\, without any judgements. By doing the work with clarity\, integrity\, respect and consistency\, always remembering to be humble and sincere\, we honour those that came before us – their knowledge\, wisdom and instructions. Much healing is possible during a shamanic journey – with the guidance of sacred songs\, we are able to restore our connection Great Spirit and All That Is. In this way\, physical and emotional obstacles are shifted\, and limiting beliefs are removed. By healing this separation in each of us\, everything can be healed.
URL:https://www.spiritusvictoria.com/spiritus-event/shamanic-journey-with-ayahuasca/
LOCATION:Spiritus Victoria\, Malmesbury\, South Africa
ATTACH;FMTTYPE=image/jpeg:https://www.spiritusvictoria.com/wp-content/uploads/2022/12/ayahuasca-jennifer-cambrook.jpeg
END:VEVENT
BEGIN:VEVENT
DTSTART;TZID=Europe/Helsinki:20221217T163000
DTEND;TZID=Europe/Helsinki:20221217T210000
DTSTAMP:20260423T081720
CREATED:20221030T153039Z
LAST-MODIFIED:20221030T153041Z
UID:10000018-1671294600-1671310800@www.spiritusvictoria.com
SUMMARY:Medicine Temazcal
DESCRIPTION:A reflexion on the past year\, a celebration of summer solstice and gratitude for the hope a new time.\n\nIn the Medicine Temazcal we share the medicines of Peyote/ San Pedro/ Ayahuasca\, while focusing our intentions and prayers on honouring the tobacco as the First Medicine\, the purpose\, the water\, the fire and Mother Earth. \n\nThere is something deeply universal about the structure of this ceremony and its allegiance to the creative matrix through the archetypes of Father Sky\, Earthly Mother\, sacred sisters and brothers\, the sacred fire\, the altar\, water\, songs\, food and medicines. It teaches us more about living as open-hearted beings – not only with each other but among all sentient life on earth.\n\nThe ceremony of the Medicine Temazcal has four rounds\, with each round focused respectively on the purpose\, the water prayer\, the power prayer and honouring the gifts from Mother Earth. \n\nThe duration of the ceremony is about four hours. \n\n 
URL:https://www.spiritusvictoria.com/spiritus-event/medicine-temazcal-2/
LOCATION:Spiritus Victoria\, Malmesbury\, South Africa
ATTACH;FMTTYPE=image/jpeg:https://www.spiritusvictoria.com/wp-content/uploads/2022/10/teachings_of_the_sweat_lodge_by_aaronpaquette-d2z94pi-1.jpg
END:VEVENT
BEGIN:VEVENT
DTSTART;VALUE=DATE:20221208
DTEND;VALUE=DATE:20221212
DTSTAMP:20260423T081720
CREATED:20221018T154305Z
LAST-MODIFIED:20221018T154307Z
UID:10000019-1670457600-1670803199@www.spiritusvictoria.com
SUMMARY:
DESCRIPTION:Join Liesl Kruger for a 3 day medicine retreat\, exploring the themes of Acceptance\, Joy and Liberation. The weekend will include 2 medicine ceremonies\, as well as a sweat lodge\, time in nature\, nourishing food\, the opportunity to connect with like-hearted people and time alone to dive into the depths of your being. The ceremonies will take place in Bodhi Khaya’s purpose built Maloca\, surrounded by the sounds and smells of nature.\n\nAll included\n\n 	2 Ceremonies with Liesl (Thursday and Saturday)\n 	Sweat Lodge (Friday)\n 	Nourishing plant-based food\n 	Your choice of camping or accomodation\n 	Exquisite nature walks and hikes\n 	Access to swimming dams\n 	Time to rest and restore\n\nOptional extras\n\n– Private healing session (1 hour) with Liesl (R850)\n– Kambo (R1050)
URL:https://www.spiritusvictoria.com/spiritus-event/3520/
LOCATION:Bhodi Khaya\, Stanford\, South Africa
ATTACH;FMTTYPE=image/jpeg:https://www.spiritusvictoria.com/wp-content/uploads/2022/10/IMG_7667.jpg
END:VEVENT
BEGIN:VEVENT
DTSTART;TZID=Europe/Helsinki:20221021T183000
DTEND;TZID=Europe/Helsinki:20221021T210000
DTSTAMP:20260423T081720
CREATED:20221010T103721Z
LAST-MODIFIED:20221010T103901Z
UID:10000011-1666377000-1666386000@www.spiritusvictoria.com
SUMMARY:Medicine Temazcal
DESCRIPTION:
URL:https://www.spiritusvictoria.com/spiritus-event/medicine-temazcal/
LOCATION:Highlands North\, Johannesburg
ATTACH;FMTTYPE=image/jpeg:https://www.spiritusvictoria.com/wp-content/uploads/2022/10/Sweat-lodge-circle.jpg
END:VEVENT
BEGIN:VEVENT
DTSTART;TZID=Europe/Helsinki:20221014T200000
DTEND;TZID=Europe/Helsinki:20221016T110000
DTSTAMP:20260423T081720
CREATED:20220906T151347Z
LAST-MODIFIED:20220906T151417Z
UID:10000029-1665777600-1665918000@www.spiritusvictoria.com
SUMMARY:Shamanic Retreat with Ayahuasca and Los Niños
DESCRIPTION:Retreat information \n\nThe weekend consists of the following:\n\n14 October 2022 @ 20:00: Shamanic Journey with Los Niños (Sacred Mushrooms)\n15 October 2022 @ 20:00: Shamanic Journey with Ayahuasca\n\n\nContribution:\nR3950 per person\nThe contribution includes the ceremonies\, group integration sessions\, all meals and amenities for the weekend.\n\n\n\n\nOptional extras:\n\n15 October 2022: Private consultation/ healing sessions (45 minutes) – limited slots available\nContribution: R850 per person\n\n16 October 2022: 11:00: Kambo\nContribution: R1050 per person\n\n\n\n\nWe will send preparation guidelines and directions closer to the time.\n\nACCOMMODATION:\nFor accommodation details and options please contact Jennifer on 072 609 3737 or jennifer@bardolino.co.za\n\nTREATMENTS AVAILABLE:\nReiki\n30min @ R150\n1hr @ R300\n\nAromatherapy Massages\nHead\, Neck\, Shoulder 40min @ R300\nHead & Feet 40min @ R300\nBack\, Neck\, Shoulder 40min @R300\nFull body 1hour @ R500\n\nIntuitive Card Readings\n1hour @R500\n\n\n\nFor treatment bookings please contact Golda on 082 572 2478 or ‎golda72@gmail.com
URL:https://www.spiritusvictoria.com/spiritus-event/shamanic-retreat-with-ayahuasca-and-los-ninos/
LOCATION:Bardolino\, Nelspruit\, South Africa
ATTACH;FMTTYPE=image/jpeg:https://www.spiritusvictoria.com/wp-content/uploads/2022/09/caught-in-the-web-by-martina-hoffman.jpg
END:VEVENT
BEGIN:VEVENT
DTSTART;TZID=Europe/Helsinki:20220930T193000
DTEND;TZID=Europe/Helsinki:20221002T110000
DTSTAMP:20260423T081720
CREATED:20220906T150543Z
LAST-MODIFIED:20220906T151818Z
UID:10000030-1664566200-1664708400@www.spiritusvictoria.com
SUMMARY:Shamanic Plant Medicine Retreat
DESCRIPTION:Retreat information: 30 September 2022 @ 20:00: Shamanic Journey with Ayahuasca \n1 October 2022 @ 20:00: Shamanic Journey with Los Niños (Sacred Mushrooms)\n \n\nContribution:\nR4550 per person\nThe contribution includes the ceremonies\, group integration sessions\, all meals and amenities for the weekend\, but the personal sessions and Kambo are not included.\n\n\n \nOptional extras:\n \n1 October 2022: Private consultation/ healing sessions (45 minutes) – limited slots available\nContribution: R850 per person 30 January 2022: 11:00: Kambo Contribution: R1050 per person We will send preparation guidelines closer to the time. Professional assistance is available for purposes of integration purposes.
URL:https://www.spiritusvictoria.com/spiritus-event/shamanic-plant-medicine-retreat/
LOCATION:Fibonacci House\, Houghton\, Johannesburg\, South Africa
ATTACH;FMTTYPE=image/jpeg:https://www.spiritusvictoria.com/wp-content/uploads/2022/09/89550878_2812062798885617_8839294320122003456_n.jpeg
END:VEVENT
BEGIN:VEVENT
DTSTART;TZID=Europe/Helsinki:20220917T203000
DTEND;TZID=Europe/Helsinki:20220918T090000
DTSTAMP:20260423T081720
CREATED:20220906T145710Z
LAST-MODIFIED:20220912T105954Z
UID:10000025-1663446600-1663491600@www.spiritusvictoria.com
SUMMARY:Shamanic Ceremony with Ayahuasca and Los Niños Santos
DESCRIPTION:
URL:https://www.spiritusvictoria.com/spiritus-event/shamanic-ceremony-with-ayahuasca-and-los-ninos-santos/
LOCATION:Spiritus Victoria\, Malmesbury\, South Africa
ATTACH;FMTTYPE=image/jpeg:https://www.spiritusvictoria.com/wp-content/uploads/2022/09/For-PEx-fractal-2067420__480.jpeg
END:VEVENT
BEGIN:VEVENT
DTSTART;VALUE=DATE:20220423
DTEND;VALUE=DATE:20220509
DTSTAMP:20260423T081720
CREATED:20220131T104615Z
LAST-MODIFIED:20220131T112343Z
UID:10000024-1650672000-1652054399@www.spiritusvictoria.com
SUMMARY:Vision Quest Africa
DESCRIPTION:Vision Quest Africa\nwith Liesl Sitlalitlali\, Medicine Woman of the Sacred Fire of Itzachilatlan \n23 April – 8 May 2022 \nFor more information and registration\, please contact: liesl@spiritusvictoria.com or trishadelisha1@gmail.com
URL:https://www.spiritusvictoria.com/spiritus-event/vision-quest-africa/
LOCATION:Paardebosch\, Malmesbury\, Paardebosch\, Malmesbury\, Western Cape
CATEGORIES:Itzachilatlan,Sacred Fire,Vision Quest
ATTACH;FMTTYPE=image/jpeg:https://www.spiritusvictoria.com/wp-content/uploads/2022/01/VISION-QUEST-AFRICA.jpg
ORGANIZER;CN="Liesl Kruger":MAILTO:liesl@spiritusvistoria.com
END:VEVENT
BEGIN:VEVENT
DTSTART;VALUE=DATE:20220205
DTEND;VALUE=DATE:20220206
DTSTAMP:20260423T081720
CREATED:20220131T081613Z
LAST-MODIFIED:20220131T091435Z
UID:10000023-1644019200-1644105599@www.spiritusvictoria.com
SUMMARY:Medicine Temazcal & Chanupa Pipe Ceremony
DESCRIPTION:Medicine Temazcal & Chanupa Pipe Cermony\nwith Liesl Sitlalitlali\, Medicine Woman of the Sacred Fire of Itzachilatlan \n5 February 2022Highlands NorthJohannesburg \nFor more information and registration\, please complete the for below or contact: ryanklette@gmail.com or 082 552 0619 \n												Medicine Temazcal & Chanupa Pipe Cermony\n					Loading…
URL:https://www.spiritusvictoria.com/spiritus-event/medicine-temazcal-chanupa-pipe-ceremony/
LOCATION:Highlands North\, Johanneburh\, Highlands North\, Johannesburg\, 2192\, Johannesburg\, Gauteng\, 2192\, South Africa
CATEGORIES:Ceremony,Chanupa Pipe,Medicine
ATTACH;FMTTYPE=image/jpeg:https://www.spiritusvictoria.com/wp-content/uploads/2022/01/Medicine-temazcal-Jhb-Facebook-Post.jpg
ORGANIZER;CN="Liesl Kruger":MAILTO:liesl@spiritusvistoria.com
END:VEVENT
BEGIN:VEVENT
DTSTART;VALUE=DATE:20220128
DTEND;VALUE=DATE:20220131
DTSTAMP:20260423T081721
CREATED:20220128T073929Z
LAST-MODIFIED:20220131T075129Z
UID:10000026-1643328000-1643587199@www.spiritusvictoria.com
SUMMARY:Weekend Retreat with Los Ninos\, Ayahuasca & Kambo
DESCRIPTION:Retreat information\nThe weekend consists of the following ceremonies: \n28 January 2022 @ 20:00: Shamanic Journey with Los Ninos (sacred mushrooms)Contribution: R1650 per person \n29 January 2022 @ 14:00: Red Path/ Sacred Fire Chanupa (pipe) prayer ceremonyContribution: R250 per person \n29 January 2022 @ 20:00: Shamanic Journey with AyahuascaContribution: R2050 per person \n30 January 2022: 11:00: KamboContribution: R850 per person\n												Registration for Shamanic Retreat 22-24 October 2021\n					Loading…
URL:https://www.spiritusvictoria.com/spiritus-event/weekend-retreat-with-los-ninos-ayahuasca-kambo/
LOCATION:Paardebosch\, Malmesbury\, Paardebosch\, Malmesbury\, Western Cape
ATTACH;FMTTYPE=image/jpeg:https://www.spiritusvictoria.com/wp-content/uploads/2022/01/Johannesburg-28-29-January-2022-Facebook-Post.jpg
ORGANIZER;CN="Liesl Kruger":MAILTO:liesl@spiritusvistoria.com
END:VEVENT
BEGIN:VEVENT
DTSTART;VALUE=DATE:20211022
DTEND;VALUE=DATE:20211025
DTSTAMP:20260423T081721
CREATED:20210923T095437Z
LAST-MODIFIED:20210923T095646Z
UID:10000027-1634860800-1635119999@www.spiritusvictoria.com
SUMMARY:Shamanic Retreat with Gui Tantan & Liesl Kruger
DESCRIPTION:The weekend consists of the following ceremonies:\n\n22 October 2021 @ 20:00: Santo Daime (Ayahuasca)Contribution: R750 per person\n23 October 2021 @ 10:00 – 17:00: Horse ConstellationsThe workshop includes Shamanic Family Constellation teachings\, group work\, and each participant will have the opportunity to be constellated in a horse constellation.Contribution: R1200 per person (bring lunch to share)\n23 October 2021 @ 20:00: Sweat lodge with medicineContribution: R1250 per person\n24 October 2021 @10:00: Kambo from medicineContribution: R850 per person\n\n												Registration for Shamanic Retreat 22-24 October 2021\n					Loading…
URL:https://www.spiritusvictoria.com/spiritus-event/shamanic-retreat-with-gui-tantan-liesl-kruger/
LOCATION:Paardebosch\, Malmesbury\, Paardebosch\, Malmesbury\, Western Cape
ATTACH;FMTTYPE=image/jpeg:https://www.spiritusvictoria.com/wp-content/uploads/2021/09/1-1.jpg
ORGANIZER;CN="Liesl Kruger":MAILTO:liesl@spiritusvistoria.com
END:VEVENT
BEGIN:VEVENT
DTSTART;VALUE=DATE:20211008
DTEND;VALUE=DATE:20211018
DTSTAMP:20260423T081721
CREATED:20210922T095607Z
LAST-MODIFIED:20210922T110837Z
UID:10000028-1633651200-1634515199@www.spiritusvictoria.com
SUMMARY:Yawa Bane Retreat
DESCRIPTION:Weekend Retreats and Dieta with Yawa Bane Huni Kuin\nThe weekends consist of two ceremonies with the medicine of Ayahuasca (Friday and Saturday) and a sweat lodge on Saturday afternoon. \nThe Dieta is a journey of one week with the medicine of Ayahuasca and other sacred plants from the Amazon\, whilst following a strict diet and observing silence.  We will also spend some time in nature with the medicine of San Pedro. \nWe aim to start the Dieta on Monday\, 11 October 2021 at 11:00\,  please ensure that you arrive in time to get settled. \n\n\n\n\n\n\n\nRegistration for Nixi Pae weekend with Yawa Bane 8-10 October 2021 Loading… Registration for Dieta with Yawa Bane 11-17 October 2021 Loading… Registration for Nixi Pae weekend with Yawa Bane 15-17 October 2021 Loading…
URL:https://www.spiritusvictoria.com/spiritus-event/yawa-bane-retreat/
LOCATION:Paardebosch\, Malmesbury\, Paardebosch\, Malmesbury\, Western Cape
CATEGORIES:Ayahuasca,Dieta,Sacred Medicine
ATTACH;FMTTYPE=image/jpeg:https://www.spiritusvictoria.com/wp-content/uploads/2021/09/Event-1-1.jpg
ORGANIZER;CN="Liesl Kruger":MAILTO:liesl@spiritusvistoria.com
END:VEVENT
BEGIN:VEVENT
DTSTART;VALUE=DATE:20210403
DTEND;VALUE=DATE:20210419
DTSTAMP:20260423T081721
CREATED:20190305T113940Z
LAST-MODIFIED:20210406T141400Z
UID:10000022-1617408000-1618790399@www.spiritusvictoria.com
SUMMARY:Vision Quest
DESCRIPTION:Vision Quest Event\nThe Vision Quest is a traditional native initiation rite of several tribes of the USA and Mexico. The vision quester climbs the mountain with the purpose of seeking a direction in life\, a rebirth\, or a deepening in self-knowledge through prayers\, reflection and commitment. \nWe are in alliance with and oriented by this tradition\, with the permission and blessings to lead this ancestral design delivered by the chief of the Sacred Fire of Itzachilatian\, Aurelio Diaz Tepankali. \nWith this purpose questers are taken to the mountain for a fast from food\, water and speech for 4\, 7\, 9 and 13 days. The intention is that the seeker reaches a greater level of understanding of his/ her purpose or way of life\, thus recognising the ways of traditional people who gave us the sacred designs\, medicines\, knowledge of fasting\, meditation\, observation\, self-study and the conscious interaction with the environment and the elements. That which is hidden is revealed through the mystery\, the self-observation\, the internal and external manifestations of the quester and through the wisdom of nature. \nA “Four Tobacco’s” ceremony is held when the time comes to climb the mountain\, with the purpose of the ceremony being to set the intention of the Vision Quest. Seekers participate in this ceremony\, together with friends and family. After the ceremony\, seekers will take a last shower\, have a meal and enter the sweat lodge for purification\, prayers and songs. The sweat lodge is where the focus becomes internal and the vow of silence begins. \nSeekers are then taken to the assigned spaces on the mountain and planted surrounded by their 365 prayer ties where they remain in their spots for 4\,7\,9 or 13 days. For the 7\,9 and 13 day quests\, support by way of liquid and fruit is provided after day 4. Once seekers are harvested (collected) from the mountain\, their quest is closed with a sweat lodge and Four Tobacco ceremony. \nThe Vision Quest path is the commitment to complete four quests in your lifetime – \n\nthe first year honours the colour red and is for 4 days and 4 nights praying towards the East for humility.\nthe second year honours the colour yellow and is for 7 days and 7 nights praying towards the South for the purpose of our lives.\nthe third year honours the colour black and is for 9 days and 9 days praying towards the West for healing.\nthe fourth years honours the colour white and is for 13 days and 13 nights praying towards the North for peace.
URL:https://www.spiritusvictoria.com/spiritus-event/vision-quest/
LOCATION:Paardebosch\, Malmesbury\, Paardebosch\, Malmesbury\, Western Cape
CATEGORIES:Meditation Events
ATTACH;FMTTYPE=image/jpeg:https://www.spiritusvictoria.com/wp-content/uploads/2021/02/spiritus-victoria-vision-quest-01.jpg
ORGANIZER;CN="Liesl Kruger":MAILTO:liesl@spiritusvistoria.com
END:VEVENT
END:VCALENDAR