BEGIN:VCALENDAR
VERSION:2.0
PRODID:-//Spiritus Victoria - ECPv6.15.14//NONSGML v1.0//EN
CALSCALE:GREGORIAN
METHOD:PUBLISH
X-WR-CALNAME:Spiritus Victoria
X-ORIGINAL-URL:https://www.spiritusvictoria.com
X-WR-CALDESC:Events for Spiritus Victoria
REFRESH-INTERVAL;VALUE=DURATION:PT1H
X-Robots-Tag:noindex
X-PUBLISHED-TTL:PT1H
BEGIN:VTIMEZONE
TZID:Europe/Helsinki
BEGIN:DAYLIGHT
TZOFFSETFROM:+0200
TZOFFSETTO:+0300
TZNAME:EEST
DTSTART:20200329T010000
END:DAYLIGHT
BEGIN:STANDARD
TZOFFSETFROM:+0300
TZOFFSETTO:+0200
TZNAME:EET
DTSTART:20201025T010000
END:STANDARD
BEGIN:DAYLIGHT
TZOFFSETFROM:+0200
TZOFFSETTO:+0300
TZNAME:EEST
DTSTART:20210328T010000
END:DAYLIGHT
BEGIN:STANDARD
TZOFFSETFROM:+0300
TZOFFSETTO:+0200
TZNAME:EET
DTSTART:20211031T010000
END:STANDARD
BEGIN:DAYLIGHT
TZOFFSETFROM:+0200
TZOFFSETTO:+0300
TZNAME:EEST
DTSTART:20220327T010000
END:DAYLIGHT
BEGIN:STANDARD
TZOFFSETFROM:+0300
TZOFFSETTO:+0200
TZNAME:EET
DTSTART:20221030T010000
END:STANDARD
BEGIN:DAYLIGHT
TZOFFSETFROM:+0200
TZOFFSETTO:+0300
TZNAME:EEST
DTSTART:20230326T010000
END:DAYLIGHT
BEGIN:STANDARD
TZOFFSETFROM:+0300
TZOFFSETTO:+0200
TZNAME:EET
DTSTART:20231029T010000
END:STANDARD
END:VTIMEZONE
BEGIN:VEVENT
DTSTART;VALUE=DATE:20220205
DTEND;VALUE=DATE:20220206
DTSTAMP:20260423T014801
CREATED:20220131T081613Z
LAST-MODIFIED:20220131T091435Z
UID:10000023-1644019200-1644105599@www.spiritusvictoria.com
SUMMARY:Medicine Temazcal & Chanupa Pipe Ceremony
DESCRIPTION:Medicine Temazcal & Chanupa Pipe Cermony\nwith Liesl Sitlalitlali\, Medicine Woman of the Sacred Fire of Itzachilatlan \n5 February 2022Highlands NorthJohannesburg \nFor more information and registration\, please complete the for below or contact: ryanklette@gmail.com or 082 552 0619 \n												Medicine Temazcal & Chanupa Pipe Cermony\n					Loading…
URL:https://www.spiritusvictoria.com/spiritus-event/medicine-temazcal-chanupa-pipe-ceremony/
LOCATION:Highlands North\, Johanneburh\, Highlands North\, Johannesburg\, 2192\, Johannesburg\, Gauteng\, 2192\, South Africa
CATEGORIES:Ceremony,Chanupa Pipe,Medicine
ATTACH;FMTTYPE=image/jpeg:https://www.spiritusvictoria.com/wp-content/uploads/2022/01/Medicine-temazcal-Jhb-Facebook-Post.jpg
ORGANIZER;CN="Liesl Kruger":MAILTO:liesl@spiritusvistoria.com
END:VEVENT
BEGIN:VEVENT
DTSTART;VALUE=DATE:20220128
DTEND;VALUE=DATE:20220131
DTSTAMP:20260423T014802
CREATED:20220128T073929Z
LAST-MODIFIED:20220131T075129Z
UID:10000026-1643328000-1643587199@www.spiritusvictoria.com
SUMMARY:Weekend Retreat with Los Ninos\, Ayahuasca & Kambo
DESCRIPTION:Retreat information\nThe weekend consists of the following ceremonies: \n28 January 2022 @ 20:00: Shamanic Journey with Los Ninos (sacred mushrooms)Contribution: R1650 per person \n29 January 2022 @ 14:00: Red Path/ Sacred Fire Chanupa (pipe) prayer ceremonyContribution: R250 per person \n29 January 2022 @ 20:00: Shamanic Journey with AyahuascaContribution: R2050 per person \n30 January 2022: 11:00: KamboContribution: R850 per person\n												Registration for Shamanic Retreat 22-24 October 2021\n					Loading…
URL:https://www.spiritusvictoria.com/spiritus-event/weekend-retreat-with-los-ninos-ayahuasca-kambo/
LOCATION:Paardebosch\, Malmesbury\, Paardebosch\, Malmesbury\, Western Cape
ATTACH;FMTTYPE=image/jpeg:https://www.spiritusvictoria.com/wp-content/uploads/2022/01/Johannesburg-28-29-January-2022-Facebook-Post.jpg
ORGANIZER;CN="Liesl Kruger":MAILTO:liesl@spiritusvistoria.com
END:VEVENT
BEGIN:VEVENT
DTSTART;VALUE=DATE:20211022
DTEND;VALUE=DATE:20211025
DTSTAMP:20260423T014802
CREATED:20210923T095437Z
LAST-MODIFIED:20210923T095646Z
UID:10000027-1634860800-1635119999@www.spiritusvictoria.com
SUMMARY:Shamanic Retreat with Gui Tantan & Liesl Kruger
DESCRIPTION:The weekend consists of the following ceremonies:\n\n22 October 2021 @ 20:00: Santo Daime (Ayahuasca)Contribution: R750 per person\n23 October 2021 @ 10:00 – 17:00: Horse ConstellationsThe workshop includes Shamanic Family Constellation teachings\, group work\, and each participant will have the opportunity to be constellated in a horse constellation.Contribution: R1200 per person (bring lunch to share)\n23 October 2021 @ 20:00: Sweat lodge with medicineContribution: R1250 per person\n24 October 2021 @10:00: Kambo from medicineContribution: R850 per person\n\n												Registration for Shamanic Retreat 22-24 October 2021\n					Loading…
URL:https://www.spiritusvictoria.com/spiritus-event/shamanic-retreat-with-gui-tantan-liesl-kruger/
LOCATION:Paardebosch\, Malmesbury\, Paardebosch\, Malmesbury\, Western Cape
ATTACH;FMTTYPE=image/jpeg:https://www.spiritusvictoria.com/wp-content/uploads/2021/09/1-1.jpg
ORGANIZER;CN="Liesl Kruger":MAILTO:liesl@spiritusvistoria.com
END:VEVENT
BEGIN:VEVENT
DTSTART;VALUE=DATE:20211008
DTEND;VALUE=DATE:20211018
DTSTAMP:20260423T014802
CREATED:20210922T095607Z
LAST-MODIFIED:20210922T110837Z
UID:10000028-1633651200-1634515199@www.spiritusvictoria.com
SUMMARY:Yawa Bane Retreat
DESCRIPTION:Weekend Retreats and Dieta with Yawa Bane Huni Kuin\nThe weekends consist of two ceremonies with the medicine of Ayahuasca (Friday and Saturday) and a sweat lodge on Saturday afternoon. \nThe Dieta is a journey of one week with the medicine of Ayahuasca and other sacred plants from the Amazon\, whilst following a strict diet and observing silence.  We will also spend some time in nature with the medicine of San Pedro. \nWe aim to start the Dieta on Monday\, 11 October 2021 at 11:00\,  please ensure that you arrive in time to get settled. \n\n\n\n\n\n\n\nRegistration for Nixi Pae weekend with Yawa Bane 8-10 October 2021 Loading… Registration for Dieta with Yawa Bane 11-17 October 2021 Loading… Registration for Nixi Pae weekend with Yawa Bane 15-17 October 2021 Loading…
URL:https://www.spiritusvictoria.com/spiritus-event/yawa-bane-retreat/
LOCATION:Paardebosch\, Malmesbury\, Paardebosch\, Malmesbury\, Western Cape
CATEGORIES:Ayahuasca,Dieta,Sacred Medicine
ATTACH;FMTTYPE=image/jpeg:https://www.spiritusvictoria.com/wp-content/uploads/2021/09/Event-1-1.jpg
ORGANIZER;CN="Liesl Kruger":MAILTO:liesl@spiritusvistoria.com
END:VEVENT
BEGIN:VEVENT
DTSTART;VALUE=DATE:20210403
DTEND;VALUE=DATE:20210419
DTSTAMP:20260423T014802
CREATED:20190305T113940Z
LAST-MODIFIED:20210406T141400Z
UID:10000022-1617408000-1618790399@www.spiritusvictoria.com
SUMMARY:Vision Quest
DESCRIPTION:Vision Quest Event\nThe Vision Quest is a traditional native initiation rite of several tribes of the USA and Mexico. The vision quester climbs the mountain with the purpose of seeking a direction in life\, a rebirth\, or a deepening in self-knowledge through prayers\, reflection and commitment. \nWe are in alliance with and oriented by this tradition\, with the permission and blessings to lead this ancestral design delivered by the chief of the Sacred Fire of Itzachilatian\, Aurelio Diaz Tepankali. \nWith this purpose questers are taken to the mountain for a fast from food\, water and speech for 4\, 7\, 9 and 13 days. The intention is that the seeker reaches a greater level of understanding of his/ her purpose or way of life\, thus recognising the ways of traditional people who gave us the sacred designs\, medicines\, knowledge of fasting\, meditation\, observation\, self-study and the conscious interaction with the environment and the elements. That which is hidden is revealed through the mystery\, the self-observation\, the internal and external manifestations of the quester and through the wisdom of nature. \nA “Four Tobacco’s” ceremony is held when the time comes to climb the mountain\, with the purpose of the ceremony being to set the intention of the Vision Quest. Seekers participate in this ceremony\, together with friends and family. After the ceremony\, seekers will take a last shower\, have a meal and enter the sweat lodge for purification\, prayers and songs. The sweat lodge is where the focus becomes internal and the vow of silence begins. \nSeekers are then taken to the assigned spaces on the mountain and planted surrounded by their 365 prayer ties where they remain in their spots for 4\,7\,9 or 13 days. For the 7\,9 and 13 day quests\, support by way of liquid and fruit is provided after day 4. Once seekers are harvested (collected) from the mountain\, their quest is closed with a sweat lodge and Four Tobacco ceremony. \nThe Vision Quest path is the commitment to complete four quests in your lifetime – \n\nthe first year honours the colour red and is for 4 days and 4 nights praying towards the East for humility.\nthe second year honours the colour yellow and is for 7 days and 7 nights praying towards the South for the purpose of our lives.\nthe third year honours the colour black and is for 9 days and 9 days praying towards the West for healing.\nthe fourth years honours the colour white and is for 13 days and 13 nights praying towards the North for peace.
URL:https://www.spiritusvictoria.com/spiritus-event/vision-quest/
LOCATION:Paardebosch\, Malmesbury\, Paardebosch\, Malmesbury\, Western Cape
CATEGORIES:Meditation Events
ATTACH;FMTTYPE=image/jpeg:https://www.spiritusvictoria.com/wp-content/uploads/2021/02/spiritus-victoria-vision-quest-01.jpg
ORGANIZER;CN="Liesl Kruger":MAILTO:liesl@spiritusvistoria.com
END:VEVENT
END:VCALENDAR