BEGIN:VCALENDAR
VERSION:2.0
PRODID:-//Spiritus Victoria - ECPv6.15.14//NONSGML v1.0//EN
CALSCALE:GREGORIAN
METHOD:PUBLISH
X-WR-CALNAME:Spiritus Victoria
X-ORIGINAL-URL:https://www.spiritusvictoria.com
X-WR-CALDESC:Events for Spiritus Victoria
REFRESH-INTERVAL;VALUE=DURATION:PT1H
X-Robots-Tag:noindex
X-PUBLISHED-TTL:PT1H
BEGIN:VTIMEZONE
TZID:Europe/Helsinki
BEGIN:DAYLIGHT
TZOFFSETFROM:+0200
TZOFFSETTO:+0300
TZNAME:EEST
DTSTART:20240331T010000
END:DAYLIGHT
BEGIN:STANDARD
TZOFFSETFROM:+0300
TZOFFSETTO:+0200
TZNAME:EET
DTSTART:20241027T010000
END:STANDARD
BEGIN:DAYLIGHT
TZOFFSETFROM:+0200
TZOFFSETTO:+0300
TZNAME:EEST
DTSTART:20250330T010000
END:DAYLIGHT
BEGIN:STANDARD
TZOFFSETFROM:+0300
TZOFFSETTO:+0200
TZNAME:EET
DTSTART:20251026T010000
END:STANDARD
BEGIN:DAYLIGHT
TZOFFSETFROM:+0200
TZOFFSETTO:+0300
TZNAME:EEST
DTSTART:20260329T010000
END:DAYLIGHT
BEGIN:STANDARD
TZOFFSETFROM:+0300
TZOFFSETTO:+0200
TZNAME:EET
DTSTART:20261025T010000
END:STANDARD
END:VTIMEZONE
BEGIN:VEVENT
DTSTART;TZID=Europe/Helsinki:20250809T160000
DTEND;TZID=Europe/Helsinki:20250810T090000
DTSTAMP:20260425T184856
CREATED:20250714T084556Z
LAST-MODIFIED:20250714T084558Z
UID:10000002-1754755200-1754816400@www.spiritusvictoria.com
SUMMARY:Women's Circle and Shamanic Ceremony
DESCRIPTION:Upon arrival we will have an introduction circle to get to know each other a little and consecrate the medicine of cacao to open our hearts and our minds\, to surrender to the presence of our sacred space.  \nAfterwards\, we will construct our women’s altar together and make an offering of cedar\, tobacco\, corn\, salt\, fruit and flowers to Mother Earth.  \nAround 20:00\, we will start the shamanic ceremony with Los Niños\, BUT this will be a more interactive ceremony where we sing\, drum and dance together in order to fully express our individual essence of being a woman\, to share our challenges and our joys through the ancient the rhythm of our bodies.   \nThe ceremony will end in the early morning\, after some rest and something to eat in the morning\, we will have our final sharing circle.
URL:https://www.spiritusvictoria.com/spiritus-event/womens-circle-and-shamanic-ceremony/
LOCATION:Spiritus Victoria\, Malmesbury\, South Africa
ATTACH;FMTTYPE=image/png:https://www.spiritusvictoria.com/wp-content/uploads/2025/07/Giggling-Goddess-Womens-Circle-Mandala-500x-Copy.png
END:VEVENT
END:VCALENDAR