BEGIN:VCALENDAR
VERSION:2.0
PRODID:-//Spiritus Victoria - ECPv6.15.14//NONSGML v1.0//EN
CALSCALE:GREGORIAN
METHOD:PUBLISH
X-ORIGINAL-URL:https://www.spiritusvictoria.com
X-WR-CALDESC:Events for Spiritus Victoria
REFRESH-INTERVAL;VALUE=DURATION:PT1H
X-Robots-Tag:noindex
X-PUBLISHED-TTL:PT1H
BEGIN:VTIMEZONE
TZID:Europe/Helsinki
BEGIN:DAYLIGHT
TZOFFSETFROM:+0200
TZOFFSETTO:+0300
TZNAME:EEST
DTSTART:20250330T010000
END:DAYLIGHT
BEGIN:STANDARD
TZOFFSETFROM:+0300
TZOFFSETTO:+0200
TZNAME:EET
DTSTART:20251026T010000
END:STANDARD
BEGIN:DAYLIGHT
TZOFFSETFROM:+0200
TZOFFSETTO:+0300
TZNAME:EEST
DTSTART:20260329T010000
END:DAYLIGHT
BEGIN:STANDARD
TZOFFSETFROM:+0300
TZOFFSETTO:+0200
TZNAME:EET
DTSTART:20261025T010000
END:STANDARD
BEGIN:DAYLIGHT
TZOFFSETFROM:+0200
TZOFFSETTO:+0300
TZNAME:EEST
DTSTART:20270328T010000
END:DAYLIGHT
BEGIN:STANDARD
TZOFFSETFROM:+0300
TZOFFSETTO:+0200
TZNAME:EET
DTSTART:20271031T010000
END:STANDARD
END:VTIMEZONE
BEGIN:VEVENT
DTSTART;TZID=Europe/Helsinki:20260506T170000
DTEND;TZID=Europe/Helsinki:20260507T090000
DTSTAMP:20260426T011213
CREATED:20260126T142700Z
LAST-MODIFIED:20260126T142700Z
UID:10000067-1778086800-1778144400@www.spiritusvictoria.com
SUMMARY:FSI Star Dance Africa
DESCRIPTION:The Star Dance is an ancestral dance where you have the opportunity to honour and remember all your grandparents – all our ancestors\, those that are not walking amongst us any longer\, all those who have preceded us. We remember them through this dance and dedicate ourselves to these grandmothers and grandfathers of the stars. We are seeing them there.
URL:https://www.spiritusvictoria.com/spiritus-event/fsi-star-dance-africa-3/
LOCATION:Spiritus Victoria\, Malmesbury\, South Africa
END:VEVENT
END:VCALENDAR