BEGIN:VCALENDAR
VERSION:2.0
PRODID:-//Spiritus Victoria - ECPv6.15.14//NONSGML v1.0//EN
CALSCALE:GREGORIAN
METHOD:PUBLISH
X-WR-CALNAME:Spiritus Victoria
X-ORIGINAL-URL:https://www.spiritusvictoria.com
X-WR-CALDESC:Events for Spiritus Victoria
REFRESH-INTERVAL;VALUE=DURATION:PT1H
X-Robots-Tag:noindex
X-PUBLISHED-TTL:PT1H
BEGIN:VTIMEZONE
TZID:Europe/Helsinki
BEGIN:DAYLIGHT
TZOFFSETFROM:+0200
TZOFFSETTO:+0300
TZNAME:EEST
DTSTART:20250330T010000
END:DAYLIGHT
BEGIN:STANDARD
TZOFFSETFROM:+0300
TZOFFSETTO:+0200
TZNAME:EET
DTSTART:20251026T010000
END:STANDARD
BEGIN:DAYLIGHT
TZOFFSETFROM:+0200
TZOFFSETTO:+0300
TZNAME:EEST
DTSTART:20260329T010000
END:DAYLIGHT
BEGIN:STANDARD
TZOFFSETFROM:+0300
TZOFFSETTO:+0200
TZNAME:EET
DTSTART:20261025T010000
END:STANDARD
BEGIN:DAYLIGHT
TZOFFSETFROM:+0200
TZOFFSETTO:+0300
TZNAME:EEST
DTSTART:20270328T010000
END:DAYLIGHT
BEGIN:STANDARD
TZOFFSETFROM:+0300
TZOFFSETTO:+0200
TZNAME:EET
DTSTART:20271031T010000
END:STANDARD
END:VTIMEZONE
BEGIN:VEVENT
DTSTART;TZID=Europe/Helsinki:20260320T190000
DTEND;TZID=Europe/Helsinki:20260320T203000
DTSTAMP:20260423T010751
CREATED:20260302T144456Z
LAST-MODIFIED:20260302T144456Z
UID:10000070-1774033200-1774038600@www.spiritusvictoria.com
SUMMARY:Ceremony with BUFO (SAPO)
DESCRIPTION:In the circle around the Sacred Fire\, participants will hold space for each other while the medicine is administered to each one individually. \nThe experience will be about two hours long (depending on number of participants) and you will be able to return home afterwards.
URL:https://www.spiritusvictoria.com/spiritus-event/ceremony-with-bufo-sapo/
LOCATION:Spiritus Victoria\, Malmesbury\, South Africa
ATTACH;FMTTYPE=image/png:https://www.spiritusvictoria.com/wp-content/uploads/2026/03/Bufo-1.png
END:VEVENT
END:VCALENDAR