BEGIN:VCALENDAR
VERSION:2.0
PRODID:-//Spiritus Victoria - ECPv6.15.14//NONSGML v1.0//EN
CALSCALE:GREGORIAN
METHOD:PUBLISH
X-WR-CALNAME:Spiritus Victoria
X-ORIGINAL-URL:https://www.spiritusvictoria.com
X-WR-CALDESC:Events for Spiritus Victoria
REFRESH-INTERVAL;VALUE=DURATION:PT1H
X-Robots-Tag:noindex
X-PUBLISHED-TTL:PT1H
BEGIN:VTIMEZONE
TZID:Europe/Helsinki
BEGIN:DAYLIGHT
TZOFFSETFROM:+0200
TZOFFSETTO:+0300
TZNAME:EEST
DTSTART:20250330T010000
END:DAYLIGHT
BEGIN:STANDARD
TZOFFSETFROM:+0300
TZOFFSETTO:+0200
TZNAME:EET
DTSTART:20251026T010000
END:STANDARD
BEGIN:DAYLIGHT
TZOFFSETFROM:+0200
TZOFFSETTO:+0300
TZNAME:EEST
DTSTART:20260329T010000
END:DAYLIGHT
BEGIN:STANDARD
TZOFFSETFROM:+0300
TZOFFSETTO:+0200
TZNAME:EET
DTSTART:20261025T010000
END:STANDARD
BEGIN:DAYLIGHT
TZOFFSETFROM:+0200
TZOFFSETTO:+0300
TZNAME:EEST
DTSTART:20270328T010000
END:DAYLIGHT
BEGIN:STANDARD
TZOFFSETFROM:+0300
TZOFFSETTO:+0200
TZNAME:EET
DTSTART:20271031T010000
END:STANDARD
END:VTIMEZONE
BEGIN:VEVENT
DTSTART;TZID=Europe/Helsinki:20260418T220000
DTEND;TZID=Europe/Helsinki:20260503T083000
DTSTAMP:20260422T145416
CREATED:20260126T142211Z
LAST-MODIFIED:20260126T142211Z
UID:10000066-1776549600-1777797000@www.spiritusvictoria.com
SUMMARY:FSI Vision Quest Africa
DESCRIPTION:The Vision Quest is a traditional native initiation rite of several tribes of the USA and Mexico. The vision quester climbs the mountain with the purpose of seeking a direction in life\,a rebirth\, or a deepening in self-knowledge through prayers\, reflection and commitment. \nWe are in alliance with and oriented by this tradition\, with the permission and blessings to lead this ancestral design delivered by the chief of the Sacred Fire of Itzachilatian\, Aurelio Diaz Tekpankali. In this way\, we make the call\, the invocation to the four directions\, to the heart of the sky\, to the Great Spirit\, to the great Mystery\, to the heart of the Mother Earth\, to the giver of life\, and to all life. \nWe seek to understand the purpose of our true nature\, to be the sum of multiple tribes and nations. Celebrating the moment in which we recognise ourselves – we are all interconnected\, we all have the same origin\, the same present and also the same future. For the love and respect of those who came before us\, that resolved to bequeath their knowledge\, their wisdom and instructions. That we can return to the truth\, to the center\, to the point of creation and agree to somehow stop the disease and imbalance. \nDoing the work with clarity\, transparency\, cleanliness and consistency. With humility\, sincerity\, will and integrity to be useful and to be of benefit. To strengthen and nourish ourselves in the opportunity to once again place our own truth here\, in the center\, and together in our time return to the direction of all directions. With this purpose questers are taken to the mountain for a fast from food\, water and speech for 4\, 7\, 9 and 13 days. \nThe intention is that the seeker reaches a greater level of understanding of his/ her purpose or way of life\, thus recognising the ways of traditional people who gave us the sacred designs\, medicines\, knowledge of fasting\, meditation\, observation\, self-study and the conscious interaction with the environment and the elements. That which is hidden is revealed through the mystery\, the self-observation\, the internal and external manifestations of the quester and through the wisdom of nature.
URL:https://www.spiritusvictoria.com/spiritus-event/fsi-vision-quest-africa/
LOCATION:Spiritus Victoria\, Malmesbury\, South Africa
ATTACH;FMTTYPE=image/jpeg:https://www.spiritusvictoria.com/wp-content/uploads/2026/01/Vision-Quest-2026.jpg
END:VEVENT
END:VCALENDAR